BEGIN:VCALENDAR
VERSION:2.0
PRODID:SchoolNow
CALSCALE:GREGORIAN
BEGIN:VEVENT
UID:28578bf2-e3f9-11eb-b4af-0a39880a93d5
DTSTAMP:20210713T164122Z
SUMMARY:Board of Education Meeting (11-8-21)
URL;VALUE=URI:https://www.liverpool.k12.ny.us/board-of-education/calendar/2
 638231/board-of-education-meeting-11-8-21
DTSTART:20211109T000000Z
DTEND:20211109T040000Z
END:VEVENT
END:VCALENDAR
