BEGIN:VCALENDAR
VERSION:2.0
PRODID:SchoolNow
CALSCALE:GREGORIAN
BEGIN:VEVENT
UID:5ea827de-e3f9-11eb-9ee6-0a39880a93d5
DTSTAMP:20210713T164253Z
SUMMARY:Board of Education Meeting (11-22-21)
URL;VALUE=URI:https://www.liverpool.k12.ny.us/board-of-education/calendar/2
 638233/board-of-education-meeting-11-22-21
DTSTART:20211123T000000Z
DTEND:20211123T040000Z
END:VEVENT
END:VCALENDAR
