BEGIN:VCALENDAR
VERSION:2.0
PRODID:SchoolNow
CALSCALE:GREGORIAN
BEGIN:VEVENT
UID:941bf3c8-e3f9-11eb-8d38-0a39880a93d5
DTSTAMP:20210713T164423Z
SUMMARY:Board of Education Meeting (12-6-21)
URL;VALUE=URI:https://www.liverpool.k12.ny.us/board-of-education/calendar/2
 638235/board-of-education-meeting-12-6-21
DTSTART:20211207T000000Z
DTEND:20211207T040000Z
END:VEVENT
END:VCALENDAR
