BEGIN:VCALENDAR
VERSION:2.0
PRODID:SchoolNow
CALSCALE:GREGORIAN
BEGIN:VEVENT
UID:b44a2214-e3f9-11eb-927e-0a39880a93d5
DTSTAMP:20210713T164517Z
SUMMARY:Board of Education Meeting (12-20-21)
URL;VALUE=URI:https://www.liverpool.k12.ny.us/board-of-education/calendar/2
 638239/board-of-education-meeting-12-20-21
DTSTART:20211221T000000Z
DTEND:20211221T040000Z
END:VEVENT
END:VCALENDAR
