BEGIN:VCALENDAR
VERSION:2.0
PRODID:SchoolNow
CALSCALE:GREGORIAN
BEGIN:VEVENT
UID:d9c85510-e3f9-11eb-a777-0a39880a93d5
DTSTAMP:20210713T164620Z
SUMMARY:Board of Education Meeting (1-10-22)
URL;VALUE=URI:https://www.liverpool.k12.ny.us/board-of-education/calendar/2
 638241/board-of-education-meeting-1-10-22
DTSTART:20220111T000000Z
DTEND:20220111T040000Z
END:VEVENT
END:VCALENDAR
