BEGIN:VCALENDAR
VERSION:2.0
PRODID:SchoolNow
CALSCALE:GREGORIAN
BEGIN:VEVENT
UID:1cbf8866-e3fa-11eb-b2f3-0a39880a93d5
DTSTAMP:20210713T164812Z
SUMMARY:Board of Education Meeting (1-24-22)
URL;VALUE=URI:https://www.liverpool.k12.ny.us/board-of-education/calendar/2
 638243/board-of-education-meeting-1-24-22
DTSTART:20220125T000000Z
DTEND:20220125T040000Z
END:VEVENT
END:VCALENDAR
