BEGIN:VCALENDAR
VERSION:2.0
PRODID:SchoolNow
CALSCALE:GREGORIAN
BEGIN:VEVENT
UID:4fef351a-e3fa-11eb-86ad-0a39880a93d5
DTSTAMP:20210713T164938Z
SUMMARY:Board of Education Meeting (2-28-22)
URL;VALUE=URI:https://www.liverpool.k12.ny.us/board-of-education/calendar/2
 638246/board-of-education-meeting-2-28-22
DTSTART:20220301T000000Z
DTEND:20220301T040000Z
END:VEVENT
END:VCALENDAR
