BEGIN:VCALENDAR
VERSION:2.0
PRODID:SchoolNow
CALSCALE:GREGORIAN
BEGIN:VEVENT
UID:6ddc6f5c-e3fa-11eb-9ad3-0a39880a93d5
DTSTAMP:20210713T165028Z
SUMMARY:Board of Education Meeting (3-8-22)
URL;VALUE=URI:https://www.liverpool.k12.ny.us/board-of-education/calendar/2
 638248/board-of-education-meeting-3-8-22
DTSTART:20220309T000000Z
DTEND:20220309T040000Z
END:VEVENT
END:VCALENDAR
