BEGIN:VCALENDAR
VERSION:2.0
PRODID:SchoolNow
CALSCALE:GREGORIAN
BEGIN:VEVENT
UID:8bebc416-e3fa-11eb-a460-0a39880a93d5
DTSTAMP:20210713T165119Z
SUMMARY:Board of Education Meeting (3-21-22)
URL;VALUE=URI:https://www.liverpool.k12.ny.us/board-of-education/calendar/2
 638250/board-of-education-meeting-3-21-22
DTSTART:20220321T230000Z
DTEND:20220322T030000Z
END:VEVENT
END:VCALENDAR
