BEGIN:VCALENDAR
VERSION:2.0
PRODID:SchoolNow
CALSCALE:GREGORIAN
BEGIN:VEVENT
UID:cc908c86-e3fa-11eb-a015-0a39880a93d5
DTSTAMP:20210713T165307Z
SUMMARY:Board of Education Meeting (4-4-22)
URL;VALUE=URI:https://www.liverpool.k12.ny.us/board-of-education/calendar/2
 638254/board-of-education-meeting-4-4-22
DTSTART:20220404T230000Z
DTEND:20220405T030000Z
END:VEVENT
END:VCALENDAR
