BEGIN:VCALENDAR
VERSION:2.0
PRODID:SchoolNow
CALSCALE:GREGORIAN
BEGIN:VEVENT
UID:e67f6f86-e3fa-11eb-9395-0a39880a93d5
DTSTAMP:20210713T165351Z
SUMMARY:Board of Education Meeting (4-18-22)
URL;VALUE=URI:https://www.liverpool.k12.ny.us/board-of-education/calendar/2
 638256/board-of-education-meeting-4-18-22
DTSTART:20220418T230000Z
DTEND:20220419T030000Z
END:VEVENT
END:VCALENDAR
