BEGIN:VCALENDAR
VERSION:2.0
PRODID:SchoolNow
CALSCALE:GREGORIAN
BEGIN:VEVENT
UID:1ed8c6b6-e3fb-11eb-aab3-0a39880a93d5
DTSTAMP:20220502T134131Z
SUMMARY:Budget Hearing and BOE Meeting (5-5-22)
LOCATION:Liverpool High School Auditorium
URL;VALUE=URI:https://www.liverpool.k12.ny.us/board-of-education/calendar/2
 638278/budget-hearing-and-boe-meeting-5-5-22
DTSTART:20220505T220000Z
DTEND:20220506T023000Z
END:VEVENT
END:VCALENDAR
