BEGIN:VCALENDAR
VERSION:2.0
PRODID:SchoolNow
CALSCALE:GREGORIAN
BEGIN:VEVENT
UID:52d27278-e3fb-11eb-a0af-0a39880a93d5
DTSTAMP:20220606T132058Z
SUMMARY:Board of Education Meeting (6-13-22)
URL;VALUE=URI:https://www.liverpool.k12.ny.us/board-of-education/calendar/2
 638281/board-of-education-meeting-6-6-22
DTSTART:20220613T230000Z
DTEND:20220614T030000Z
END:VEVENT
END:VCALENDAR
