BEGIN:VCALENDAR
VERSION:2.0
PRODID:SchoolNow
CALSCALE:GREGORIAN
BEGIN:VEVENT
UID:710d85ca-e3fb-11eb-938d-0a39880a93d5
DTSTAMP:20210713T165743Z
SUMMARY:Board of Education Meeting (6-27-22)
URL;VALUE=URI:https://www.liverpool.k12.ny.us/board-of-education/calendar/2
 638283/board-of-education-meeting-6-27-22
DTSTART:20220627T230000Z
DTEND:20220628T030000Z
END:VEVENT
END:VCALENDAR
