BEGIN:VCALENDAR
VERSION:2.0
PRODID:SchoolNow
CALSCALE:GREGORIAN
BEGIN:VEVENT
UID:acde51ba-e3fb-11eb-8bca-0a39880a93d5
DTSTAMP:20220208T175109Z
SUMMARY:Board of Education Meeting (2-14-22)
URL;VALUE=URI:https://www.liverpool.k12.ny.us/board-of-education/calendar/2
 638285/board-of-education-meeting-2-7-22
DTSTART:20220215T000000Z
DTEND:20220215T040000Z
END:VEVENT
END:VCALENDAR
