BEGIN:VCALENDAR
VERSION:2.0
PRODID:SchoolNow
CALSCALE:GREGORIAN
BEGIN:VEVENT
UID:b69c72d6-e3fb-11eb-bb34-0a39880a93d5
DTSTAMP:20210713T165940Z
SUMMARY:Board of Education Meeting (5-16-22)
URL;VALUE=URI:https://www.liverpool.k12.ny.us/board-of-education/calendar/2
 638286/board-of-education-meeting-5-16-22
DTSTART:20220516T230000Z
DTEND:20220517T030000Z
END:VEVENT
END:VCALENDAR
