BEGIN:VCALENDAR
VERSION:2.0
PRODID:SchoolNow
CALSCALE:GREGORIAN
BEGIN:VEVENT
UID:19070c1a-7df3-11ec-b541-0a5ea86daac3
DTSTAMP:20220125T152559Z
SUMMARY:Voter Registration Day (3-7-22)
LOCATION:District Office
URL;VALUE=URI:https://www.liverpool.k12.ny.us/board-of-education/calendar/3
 081276/voter-registration-day-3-7-22
DTSTART:20220307T140000Z
DTEND:20220307T210000Z
END:VEVENT
END:VCALENDAR
