BEGIN:VCALENDAR
VERSION:2.0
PRODID:SchoolNow
CALSCALE:GREGORIAN
BEGIN:VEVENT
UID:79f08d58-7df3-11ec-91f3-0a5ea86daac3
DTSTAMP:20220125T152841Z
SUMMARY:Capital Project Public Hearing (3-8-22)
LOCATION:District Office
URL;VALUE=URI:https://www.liverpool.k12.ny.us/board-of-education/calendar/3
 081292/capital-project-public-hearing-3-8-22
DTSTART:20220308T230000Z
DTEND:20220309T000000Z
END:VEVENT
END:VCALENDAR
