BEGIN:VCALENDAR
VERSION:2.0
PRODID:SchoolNow
CALSCALE:GREGORIAN
BEGIN:VEVENT
UID:3cb38fe6-f713-11ec-aea8-0a30c8de4f4d
DTSTAMP:20220628T185053Z
SUMMARY:BOE Reorganizational Meeting (7-12-22)
LOCATION:District Office
URL;VALUE=URI:https://www.liverpool.k12.ny.us/board-of-education/calendar/3
 232326/boe-reorganizational-meeting-7-12-22
DTSTART:20220712T230000Z
DTEND:20220713T030000Z
END:VEVENT
END:VCALENDAR
