BEGIN:VCALENDAR
VERSION:2.0
PRODID:SchoolNow
CALSCALE:GREGORIAN
BEGIN:VEVENT
UID:e545d830-037a-11ed-84dc-02a5a969191b
DTSTAMP:20220720T172008Z
SUMMARY:Board of Education Meeting (9-12-22)
LOCATION:District Office Board Room
URL;VALUE=URI:https://www.liverpool.k12.ny.us/board-of-education/calendar/3
 243868/board-of-education-meeting-9-12-22
DTSTART:20220912T230000Z
DTEND:20220913T030000Z
END:VEVENT
END:VCALENDAR
