BEGIN:VCALENDAR
VERSION:2.0
PRODID:SchoolNow
CALSCALE:GREGORIAN
BEGIN:VEVENT
UID:3fc5ac7c-037b-11ed-998c-02a5a969191b
DTSTAMP:20220714T134540Z
SUMMARY:Board of Education Meeting (10-11-22)
LOCATION:District Office Board Room
URL;VALUE=URI:https://www.liverpool.k12.ny.us/board-of-education/calendar/3
 243871/board-of-education-meeting-10-11-22
DTSTART:20221011T230000Z
DTEND:20221012T030000Z
END:VEVENT
END:VCALENDAR
