BEGIN:VCALENDAR
VERSION:2.0
PRODID:SchoolNow
CALSCALE:GREGORIAN
BEGIN:VEVENT
UID:8b3c6434-037b-11ed-aa1d-02a5a969191b
DTSTAMP:20220714T134747Z
SUMMARY:Board of Education Meeting (10-24-22)
LOCATION:District Office Board Room
URL;VALUE=URI:https://www.liverpool.k12.ny.us/board-of-education/calendar/3
 243923/board-of-education-meeting-10-24-22
DTSTART:20221024T230000Z
DTEND:20221025T030000Z
END:VEVENT
END:VCALENDAR
