BEGIN:VCALENDAR
VERSION:2.0
PRODID:SchoolNow
CALSCALE:GREGORIAN
BEGIN:VEVENT
UID:d3eaad76-037b-11ed-9bec-02a5a969191b
DTSTAMP:20220714T134948Z
SUMMARY:Board of Education Meeting (11-7-22)
LOCATION:District Office Board Room
URL;VALUE=URI:https://www.liverpool.k12.ny.us/board-of-education/calendar/3
 243925/board-of-education-meeting-11-7-22
DTSTART:20221108T000000Z
DTEND:20221108T040000Z
END:VEVENT
END:VCALENDAR
