BEGIN:VCALENDAR
VERSION:2.0
PRODID:SchoolNow
CALSCALE:GREGORIAN
BEGIN:VEVENT
UID:587e68ec-037d-11ed-be40-0285b2549fc1
DTSTAMP:20220714T140040Z
SUMMARY:Board of Education Meeting (12-19-22)
LOCATION:District Office Board Room
URL;VALUE=URI:https://www.liverpool.k12.ny.us/board-of-education/calendar/3
 243931/board-of-education-meeting-12-19-22
DTSTART:20221220T000000Z
DTEND:20221220T040000Z
END:VEVENT
END:VCALENDAR
