BEGIN:VCALENDAR
VERSION:2.0
PRODID:SchoolNow
CALSCALE:GREGORIAN
BEGIN:VEVENT
UID:c9271b84-037d-11ed-9f97-0285b2549fc1
DTSTAMP:20220714T140349Z
SUMMARY:Board of Education Meeting (1-23-23)
LOCATION:District Office Board Room
URL;VALUE=URI:https://www.liverpool.k12.ny.us/board-of-education/calendar/3
 243935/board-of-education-meeting-1-23-23
DTSTART:20230124T000000Z
DTEND:20230124T040000Z
END:VEVENT
END:VCALENDAR
