BEGIN:VCALENDAR
VERSION:2.0
PRODID:SchoolNow
CALSCALE:GREGORIAN
BEGIN:VEVENT
UID:a6be07d2-037e-11ed-998c-0285b2549fc1
DTSTAMP:20220714T141001Z
SUMMARY:Board of Education Meeting (3-7-23)
LOCATION:District Office Board Room
URL;VALUE=URI:https://www.liverpool.k12.ny.us/board-of-education/calendar/3
 243941/board-of-education-meeting-3-7-23
DTSTART:20230308T000000Z
DTEND:20230308T040000Z
END:VEVENT
END:VCALENDAR
