BEGIN:VCALENDAR
VERSION:2.0
PRODID:SchoolNow
CALSCALE:GREGORIAN
BEGIN:VEVENT
UID:d5707d08-037e-11ed-8873-0285b2549fc1
DTSTAMP:20220714T141120Z
SUMMARY:Board of Education Meeting (3-27-23)
LOCATION:District Office Board Room
URL;VALUE=URI:https://www.liverpool.k12.ny.us/board-of-education/calendar/3
 243943/board-of-education-meeting-3-27-23
DTSTART:20230327T230000Z
DTEND:20230328T030000Z
END:VEVENT
END:VCALENDAR
