BEGIN:VCALENDAR
VERSION:2.0
PRODID:SchoolNow
CALSCALE:GREGORIAN
BEGIN:VEVENT
UID:390c0454-037f-11ed-9165-0285b2549fc1
DTSTAMP:20220714T141407Z
SUMMARY:Board of Education Meeting (4-17-23)
LOCATION:District Office Board Room
URL;VALUE=URI:https://www.liverpool.k12.ny.us/board-of-education/calendar/3
 243947/board-of-education-meeting-4-17-23
DTSTART:20230417T230000Z
DTEND:20230418T030000Z
END:VEVENT
END:VCALENDAR
