BEGIN:VCALENDAR
VERSION:2.0
PRODID:SchoolNow
CALSCALE:GREGORIAN
BEGIN:VEVENT
UID:b9650248-0381-11ed-a443-0e844f2a7d17
DTSTAMP:20230424T190005Z
SUMMARY:Budget Public Hearing & Board of Education Meeting (5-4-23)
LOCATION:District Office Board Room
URL;VALUE=URI:https://www.liverpool.k12.ny.us/board-of-education/calendar/3
 243949/budget-public-hearing-board-of-education-meeting-5-4-23
DTSTART:20230504T220000Z
DTEND:20230505T023000Z
END:VEVENT
END:VCALENDAR
