BEGIN:VCALENDAR
VERSION:2.0
PRODID:SchoolNow
CALSCALE:GREGORIAN
BEGIN:VEVENT
UID:1045aa7c-0382-11ed-b02f-0e844f2a7d17
DTSTAMP:20230525T171207Z
SUMMARY:Board of Education Meeting (6-5-23)
LOCATION:District Office Board Room
URL;VALUE=URI:https://www.liverpool.k12.ny.us/board-of-education/calendar/3
 243953/board-of-education-meeting-6-5-23
DTSTART:20230605T230000Z
DTEND:20230606T030000Z
END:VEVENT
END:VCALENDAR
