BEGIN:VCALENDAR
VERSION:2.0
PRODID:SchoolNow
CALSCALE:GREGORIAN
BEGIN:VEVENT
UID:4464e322-0382-11ed-8428-0e844f2a7d17
DTSTAMP:20230621T131047Z
SUMMARY:Board of Education Meeting (6-26-23)
LOCATION:District Office Board Room
URL;VALUE=URI:https://www.liverpool.k12.ny.us/board-of-education/calendar/3
 243955/board-of-education-meeting-6-26-23
DTSTART:20230626T223000Z
DTEND:20230627T023000Z
END:VEVENT
END:VCALENDAR
