BEGIN:VCALENDAR
VERSION:2.0
PRODID:SchoolNow
CALSCALE:GREGORIAN
BEGIN:VEVENT
UID:591ab7a2-329d-11ed-8c19-0a4d983db7e1
DTSTAMP:20220912T131810Z
SUMMARY:Board of Education Meeting (9-26-22)
LOCATION:District Office Board Room
URL;VALUE=URI:https://www.liverpool.k12.ny.us/board-of-education/calendar/3
 379130/board-of-education-meeting-9-26-22
DTSTART:20220926T230000Z
DTEND:20220927T030000Z
END:VEVENT
END:VCALENDAR
