BEGIN:VCALENDAR
VERSION:2.0
PRODID:SchoolNow
CALSCALE:GREGORIAN
BEGIN:VEVENT
UID:75caec2e-b6e5-11ed-a0c6-02e763373579
DTSTAMP:20230308T183757Z
SUMMARY:Board of Education Special Meeting and Budget Workshop
LOCATION:District Office
URL;VALUE=URI:https://www.liverpool.k12.ny.us/board-of-education/calendar/3
 791623/board-of-education-budget-workshop
DTSTART:20230320T230000Z
DTEND:20230321T030000Z
END:VEVENT
END:VCALENDAR
