BEGIN:VCALENDAR
VERSION:2.0
PRODID:SchoolNow
CALSCALE:GREGORIAN
BEGIN:VEVENT
UID:a6ab6140-19b7-11ee-9bf0-0a6006a20b37
DTSTAMP:20230717T132940Z
SUMMARY:Board of Education Workshop (7-25-23)
LOCATION:District Office Board Room
URL;VALUE=URI:https://www.liverpool.k12.ny.us/board-of-education/calendar/4
 465687/board-of-education-workshop-7-25-23
DTSTART:20230725T220000Z
DTEND:20230726T020000Z
END:VEVENT
END:VCALENDAR
