BEGIN:VCALENDAR
VERSION:2.0
PRODID:SchoolNow
CALSCALE:GREGORIAN
BEGIN:VEVENT
UID:12538c06-19b8-11ee-88a0-0a6006a20b37
DTSTAMP:20230703T170447Z
SUMMARY:Board of Education Meeting (8-22-23)
LOCATION:District Office Board Room
URL;VALUE=URI:https://www.liverpool.k12.ny.us/board-of-education/calendar/4
 465689/board-of-education-meeting-8-22-23
DTSTART:20230822T220000Z
DTEND:20230823T020000Z
END:VEVENT
END:VCALENDAR
