BEGIN:VCALENDAR
VERSION:2.0
PRODID:SchoolNow
CALSCALE:GREGORIAN
BEGIN:VEVENT
UID:3d4eb624-19b8-11ee-99ba-0a6006a20b37
DTSTAMP:20230717T133005Z
SUMMARY:Board of Education Meeting (9-5-23)
LOCATION:District Office Board Room
URL;VALUE=URI:https://www.liverpool.k12.ny.us/board-of-education/calendar/4
 465691/board-of-education-meeting-9-5-23
DTSTART:20230905T220000Z
DTEND:20230906T020000Z
END:VEVENT
END:VCALENDAR
