BEGIN:VCALENDAR
VERSION:2.0
PRODID:SchoolNow
CALSCALE:GREGORIAN
BEGIN:VEVENT
UID:6954bed0-19b8-11ee-b590-0a6006a20b37
DTSTAMP:20230717T133016Z
SUMMARY:Board of Education Meeting (9-18-23)
LOCATION:District Office Board Room
URL;VALUE=URI:https://www.liverpool.k12.ny.us/board-of-education/calendar/4
 465693/board-of-education-meeting-9-18-23
DTSTART:20230918T220000Z
DTEND:20230919T020000Z
END:VEVENT
END:VCALENDAR
