BEGIN:VCALENDAR
VERSION:2.0
PRODID:SchoolNow
CALSCALE:GREGORIAN
BEGIN:VEVENT
UID:96193fe4-19b9-11ee-9c54-0a6006a20b37
DTSTAMP:20230717T133054Z
SUMMARY:Board of Education Meeting (11-6-23)
LOCATION:District Office Board Room
URL;VALUE=URI:https://www.liverpool.k12.ny.us/board-of-education/calendar/4
 465698/board-of-education-meeting-11-6-23
DTSTART:20231106T230000Z
DTEND:20231107T030000Z
END:VEVENT
END:VCALENDAR
