BEGIN:VCALENDAR
VERSION:2.0
PRODID:SchoolNow
CALSCALE:GREGORIAN
BEGIN:VEVENT
UID:76312788-19bd-11ee-b6d7-02b0137163b1
DTSTAMP:20230717T133119Z
SUMMARY:Board of Education Meeting (12-4-23)
LOCATION:District Office Board Room
URL;VALUE=URI:https://www.liverpool.k12.ny.us/board-of-education/calendar/4
 465702/board-of-education-meeting-12-4-23
DTSTART:20231204T230000Z
DTEND:20231205T030000Z
END:VEVENT
END:VCALENDAR
