BEGIN:VCALENDAR
VERSION:2.0
PRODID:SchoolNow
CALSCALE:GREGORIAN
BEGIN:VEVENT
UID:9d284646-19bd-11ee-a60f-02b0137163b1
DTSTAMP:20231129T201631Z
SUMMARY:Board of Education Meeting (12-18-23)
LOCATION:District Office Board Room
URL;VALUE=URI:https://www.liverpool.k12.ny.us/board-of-education/calendar/4
 465704/board-of-education-workshop-12-18-23
DTSTART:20231218T230000Z
DTEND:20231219T030000Z
END:VEVENT
END:VCALENDAR
