BEGIN:VCALENDAR
VERSION:2.0
PRODID:SchoolNow
CALSCALE:GREGORIAN
BEGIN:VEVENT
UID:7020a8fe-19be-11ee-8bd4-0a6006a20b37
DTSTAMP:20230718T181456Z
SUMMARY:Board of Education Meeting (1-22-24)
LOCATION:District Office Board Room
URL;VALUE=URI:https://www.liverpool.k12.ny.us/board-of-education/calendar/4
 465708/board-of-education-meeting-1-22-24
DTSTART:20240122T230000Z
DTEND:20240123T030000Z
END:VEVENT
END:VCALENDAR
