BEGIN:VCALENDAR
VERSION:2.0
PRODID:SchoolNow
CALSCALE:GREGORIAN
BEGIN:VEVENT
UID:eef7068c-19be-11ee-ac58-0a6006a20b37
DTSTAMP:20230717T133227Z
SUMMARY:Board of Education Meeting (2-26-24)
LOCATION:District Office Board Room
URL;VALUE=URI:https://www.liverpool.k12.ny.us/board-of-education/calendar/4
 465712/board-of-education-meeting-2-26-24
DTSTART:20240226T230000Z
DTEND:20240227T030000Z
END:VEVENT
END:VCALENDAR
