BEGIN:VCALENDAR
VERSION:2.0
PRODID:SchoolNow
CALSCALE:GREGORIAN
BEGIN:VEVENT
UID:e0f11bda-19bf-11ee-9dad-0a6006a20b37
DTSTAMP:20240229T161551Z
SUMMARY:Board of Education Meeting & Budget Workshop (3-25-24)
LOCATION:District Office Board Room
URL;VALUE=URI:https://www.liverpool.k12.ny.us/board-of-education/calendar/4
 465716/board-of-education-budget-workshop-3-25-24
DTSTART:20240325T220000Z
DTEND:20240326T020000Z
END:VEVENT
END:VCALENDAR
