BEGIN:VCALENDAR
VERSION:2.0
PRODID:SchoolNow
CALSCALE:GREGORIAN
BEGIN:VEVENT
UID:1096e9e6-19c0-11ee-8635-0a6006a20b37
DTSTAMP:20240308T160957Z
SUMMARY:Board of Education Meeting (4-11-24)
LOCATION:District Office Board Room
URL;VALUE=URI:https://www.liverpool.k12.ny.us/board-of-education/calendar/4
 465718/board-of-education-meeting-4-8-24
DTSTART:20240411T220000Z
DTEND:20240412T020000Z
END:VEVENT
END:VCALENDAR
