BEGIN:VCALENDAR
VERSION:2.0
PRODID:SchoolNow
CALSCALE:GREGORIAN
BEGIN:VEVENT
UID:7bca9028-19c0-11ee-b38f-0a6006a20b37
DTSTAMP:20230717T133620Z
SUMMARY:Annual LCSD Budget Hearing (5-9-24)
LOCATION:District Office Board Room
URL;VALUE=URI:https://www.liverpool.k12.ny.us/board-of-education/calendar/4
 465720/annual-lcsd-budget-hearing-5-9-24
DTSTART:20240509T213000Z
DTEND:20240509T220000Z
END:VEVENT
END:VCALENDAR
