BEGIN:VCALENDAR
VERSION:2.0
PRODID:SchoolNow
CALSCALE:GREGORIAN
BEGIN:VEVENT
UID:aa369056-19c0-11ee-943c-0a6006a20b37
DTSTAMP:20230717T133633Z
SUMMARY:Board of Education Meeting (5-9-24)
LOCATION:District Office Board Room
URL;VALUE=URI:https://www.liverpool.k12.ny.us/board-of-education/calendar/4
 465722/board-of-education-meeting-5-9-24
DTSTART:20240509T220000Z
DTEND:20240510T020000Z
END:VEVENT
END:VCALENDAR
