BEGIN:VCALENDAR
VERSION:2.0
PRODID:SchoolNow
CALSCALE:GREGORIAN
BEGIN:VEVENT
UID:5818485e-19c1-11ee-adb6-0a6006a20b37
DTSTAMP:20230717T133720Z
SUMMARY:Board of Education Meeting (6-24-24)
LOCATION:District Office Board Room
URL;VALUE=URI:https://www.liverpool.k12.ny.us/board-of-education/calendar/4
 465728/board-of-education-meeting-6-24-24
DTSTART:20240624T220000Z
DTEND:20240625T020000Z
END:VEVENT
END:VCALENDAR
