BEGIN:VCALENDAR
VERSION:2.0
PRODID:SchoolNow
CALSCALE:GREGORIAN
BEGIN:VEVENT
UID:f2c1be92-19c3-11ee-933f-0a6006a20b37
DTSTAMP:20230703T170627Z
SUMMARY:Board of Education Meeting (8-1-23)
LOCATION:District Office Board Room
URL;VALUE=URI:https://www.liverpool.k12.ny.us/board-of-education/calendar/4
 465747/board-of-education-meeting-8-1-23
DTSTART:20230801T220000Z
DTEND:20230802T020000Z
END:VEVENT
END:VCALENDAR
