BEGIN:VCALENDAR
VERSION:2.0
PRODID:SchoolNow
CALSCALE:GREGORIAN
BEGIN:VEVENT
UID:514de462-67b8-11ee-bca7-0a58a9feac02
DTSTAMP:20231010T215943Z
SUMMARY:Board of Education Meeting (10-23-23)
LOCATION:District Office Board Room
URL;VALUE=URI:https://www.liverpool.k12.ny.us/board-of-education/calendar/4
 852239/board-of-education-meeting-10-23-23
DTSTART:20231023T220000Z
DTEND:20231024T020000Z
END:VEVENT
END:VCALENDAR
