BEGIN:VCALENDAR
VERSION:2.0
PRODID:SchoolNow
CALSCALE:GREGORIAN
BEGIN:VEVENT
UID:dd5b2422-387a-11ef-be41-0a58a9feac02
DTSTAMP:20240702T135622Z
SUMMARY:Board of Education Meeting (8-6-24)
URL;VALUE=URI:https://www.liverpool.k12.ny.us/board-of-education/calendar/6
 199921/board-of-education-meeting-8-6-24
DTSTART:20240806T220000Z
DTEND:20240807T020000Z
END:VEVENT
END:VCALENDAR
